BEGIN:VCALENDAR
VERSION:2.0
PRODID:-//DC Hawks Vilsbiburg e.V.//Spielplan//DE
CALSCALE:GREGORIAN
METHOD:PUBLISH
REFRESH-INTERVAL;VALUE=DURATION:PT1H
X-PUBLISHED-TTL:PT1H
X-WR-CALNAME:DC Hawks Vilsbiburg e.V. – 2. Mannschaft
X-WR-TIMEZONE:Europe/Berlin
X-WR-CALDESC:Spielplan DC Hawks Vilsbiburg e.V. – 2. Mannschaft
BEGIN:VEVENT
UID:aaa3e3ff0bfab2e512e0da6b00f9a2f3@dc-hawks.de
DTSTART;TZID=Europe/Berlin:20260418T190000
DTEND;TZID=Europe/Berlin:20260418T210000
SUMMARY:DC Neuötting e.V. vs DC Hawks Vilsbiburg II  6:9
DESCRIPTION:2. Mannschaft · 1. Bezirksliga Niederbayern
CATEGORIES:2. Mannschaft
END:VEVENT
BEGIN:VEVENT
UID:50dc96b68f44d1837fa4ed2e10d6a442@dc-hawks.de
DTSTART;TZID=Europe/Berlin:20260404T190000
DTEND;TZID=Europe/Berlin:20260404T210000
SUMMARY:DC Hawks Vilsbiburg II vs DC Phantom's II  11:4
DESCRIPTION:2. Mannschaft · 1. Bezirksliga Niederbayern
CATEGORIES:2. Mannschaft
END:VEVENT
BEGIN:VEVENT
UID:991b1166e7092368bf9c8654a1eac1bb@dc-hawks.de
DTSTART;TZID=Europe/Berlin:20260321T190000
DTEND;TZID=Europe/Berlin:20260321T210000
SUMMARY:Passauer Wölfe vs DC Hawks Vilsbiburg II  9:6
DESCRIPTION:2. Mannschaft · 1. Bezirksliga Niederbayern
CATEGORIES:2. Mannschaft
END:VEVENT
BEGIN:VEVENT
UID:511f28d36b3ed68bfa96053cc71df268@dc-hawks.de
DTSTART;TZID=Europe/Berlin:20260314T190000
DTEND;TZID=Europe/Berlin:20260314T210000
SUMMARY:DC Hawks Vilsbiburg II vs DC Torpedo's II  8:7
DESCRIPTION:2. Mannschaft · 1. Bezirksliga Niederbayern
CATEGORIES:2. Mannschaft
END:VEVENT
BEGIN:VEVENT
UID:06211e38164f4748396e78d2fe96c481@dc-hawks.de
DTSTART;TZID=Europe/Berlin:20260221T190000
DTEND;TZID=Europe/Berlin:20260221T210000
SUMMARY:The Orange Might Minikin vs DC Hawks Vilsbiburg II  6:9
DESCRIPTION:2. Mannschaft · 1. Bezirksliga Niederbayern
CATEGORIES:2. Mannschaft
END:VEVENT
BEGIN:VEVENT
UID:bb3b858363afc3922ae5d909a615e998@dc-hawks.de
DTSTART;TZID=Europe/Berlin:20260131T190000
DTEND;TZID=Europe/Berlin:20260131T210000
SUMMARY:DC Flames Aufhausen vs DC Hawks Vilsbiburg II  11:4
DESCRIPTION:2. Mannschaft · 1. Bezirksliga Niederbayern
CATEGORIES:2. Mannschaft
END:VEVENT
BEGIN:VEVENT
UID:bfe85f2d2392a83142373c6dfa2f7af0@dc-hawks.de
DTSTART;TZID=Europe/Berlin:20260110T190000
DTEND;TZID=Europe/Berlin:20260110T210000
SUMMARY:DC Hawks Vilsbiburg II vs SSV 63 LA - DC Steel Bro`s   14:1
DESCRIPTION:2. Mannschaft · 1. Bezirksliga Niederbayern
CATEGORIES:2. Mannschaft
END:VEVENT
BEGIN:VEVENT
UID:bd95f104c8103b9e4d9df938f9841a41@dc-hawks.de
DTSTART;TZID=Europe/Berlin:20251220T190000
DTEND;TZID=Europe/Berlin:20251220T210000
SUMMARY:DC Hawks Vilsbiburg II vs DC Black Birds Kelheim  8:7
DESCRIPTION:2. Mannschaft · 1. Bezirksliga Niederbayern
CATEGORIES:2. Mannschaft
END:VEVENT
BEGIN:VEVENT
UID:51ec83bd226a91de1c08af5219ad6963@dc-hawks.de
DTSTART;TZID=Europe/Berlin:20251206T190000
DTEND;TZID=Europe/Berlin:20251206T210000
SUMMARY:DC Freising vs DC Hawks Vilsbiburg II  3:12
DESCRIPTION:2. Mannschaft · 1. Bezirksliga Niederbayern
CATEGORIES:2. Mannschaft
END:VEVENT
BEGIN:VEVENT
UID:4a77b521d372d7d00f9d5813688f651b@dc-hawks.de
DTSTART;TZID=Europe/Berlin:20251122T190000
DTEND;TZID=Europe/Berlin:20251122T210000
SUMMARY:DC Hawks Vilsbiburg II vs DC Neuötting e.V.  7:8
DESCRIPTION:2. Mannschaft · 1. Bezirksliga Niederbayern
CATEGORIES:2. Mannschaft
END:VEVENT
BEGIN:VEVENT
UID:297bcd5ccc688baeca0081986a2d4ae5@dc-hawks.de
DTSTART;TZID=Europe/Berlin:20251108T200000
DTEND;TZID=Europe/Berlin:20251108T220000
SUMMARY:DC Phantom's II vs DC Hawks Vilsbiburg II  7:8
DESCRIPTION:2. Mannschaft · 1. Bezirksliga Niederbayern
CATEGORIES:2. Mannschaft
END:VEVENT
BEGIN:VEVENT
UID:42797dbf58e82448f13ee05630eb230f@dc-hawks.de
DTSTART;TZID=Europe/Berlin:20251011T190000
DTEND;TZID=Europe/Berlin:20251011T210000
SUMMARY:DC Hawks Vilsbiburg II vs Passauer Wölfe  10:5
DESCRIPTION:2. Mannschaft · 1. Bezirksliga Niederbayern
CATEGORIES:2. Mannschaft
END:VEVENT
BEGIN:VEVENT
UID:98bccb7eb89031afba89b67a5ec068a8@dc-hawks.de
DTSTART;TZID=Europe/Berlin:20250926T200000
DTEND;TZID=Europe/Berlin:20250926T220000
SUMMARY:DC Torpedo's II vs DC Hawks Vilsbiburg II  7:8
DESCRIPTION:2. Mannschaft · 1. Bezirksliga Niederbayern
CATEGORIES:2. Mannschaft
END:VEVENT
BEGIN:VEVENT
UID:ccc2d5cc2d1f344dd62f1feb4572e492@dc-hawks.de
DTSTART;TZID=Europe/Berlin:20250906T190000
DTEND;TZID=Europe/Berlin:20250906T210000
SUMMARY:DC Hawks Vilsbiburg II vs The Orange Might Minikin  10:5
DESCRIPTION:2. Mannschaft · 1. Bezirksliga Niederbayern
CATEGORIES:2. Mannschaft
END:VEVENT
BEGIN:VEVENT
UID:5284bc9de0ed6f3b464915452fc7f530@dc-hawks.de
DTSTART;TZID=Europe/Berlin:20260620T190000
DTEND;TZID=Europe/Berlin:20260620T210000
SUMMARY:DC Hawks Vilsbiburg II vs DC Flames Aufhausen 
DESCRIPTION:2. Mannschaft · 1. Bezirksliga Niederbayern
CATEGORIES:2. Mannschaft
END:VEVENT
BEGIN:VEVENT
UID:2f7da1ad27546f56c6246810b4416eee@dc-hawks.de
DTSTART;TZID=Europe/Berlin:20260530T190000
DTEND;TZID=Europe/Berlin:20260530T210000
SUMMARY:SSV 63 LA - DC Steel Bro`s vs DC Hawks Vilsbiburg II 
DESCRIPTION:2. Mannschaft · 1. Bezirksliga Niederbayern
CATEGORIES:2. Mannschaft
END:VEVENT
BEGIN:VEVENT
UID:65f6303b3790862725473ad03e86aee6@dc-hawks.de
DTSTART;TZID=Europe/Berlin:20260516T190000
DTEND;TZID=Europe/Berlin:20260516T210000
SUMMARY:DC Black Birds Kelheim vs DC Hawks Vilsbiburg II 
DESCRIPTION:2. Mannschaft · 1. Bezirksliga Niederbayern
CATEGORIES:2. Mannschaft
END:VEVENT
BEGIN:VEVENT
UID:ebd704dfe3cd95a79ca2addaf26fb95e@dc-hawks.de
DTSTART;TZID=Europe/Berlin:20260502T190000
DTEND;TZID=Europe/Berlin:20260502T210000
SUMMARY:DC Hawks Vilsbiburg II vs DC Freising 
DESCRIPTION:2. Mannschaft · 1. Bezirksliga Niederbayern
CATEGORIES:2. Mannschaft
END:VEVENT
END:VCALENDAR